BEGIN:VCALENDAR
VERSION:2.0
PRODID:-//Tukios.com/
BEGIN:VEVENT
UID:20199c51-e357-463d-be9f-b649c89a3488@www.ridgefuneralhome.com
DTSTAMP:20260421T090519Z
DTSTART:20260423T140000Z
DTEND:20260423T150000Z
SUMMARY:Visitation
DESCRIPTION:
URL:https://www.ridgefuneralhome.com/obituaries/neomia-spencer
LOCATION: 908 Albemarle Rd  Asheboro NC 27203
GEO:35.6887718;-79.8294116
END:VEVENT
END:VCALENDAR