BEGIN:VCALENDAR
VERSION:2.0
PRODID:-//Tukios.com/
BEGIN:VEVENT
UID:3d4df3c3-d877-461d-a5e0-eeb2896320de@www.ridgefuneralhome.com
DTSTAMP:20260421T124258Z
DTSTART:20260423T150000Z
DTEND:20260423T160000Z
SUMMARY:Funeral Service
DESCRIPTION:
URL:https://www.ridgefuneralhome.com/obituaries/neomia-spencer
LOCATION: 908 Albemarle Rd  Asheboro NC 27203
GEO:35.6887718;-79.8294116
END:VEVENT
END:VCALENDAR