BEGIN:VCALENDAR
VERSION:2.0
PRODID:-//Tukios.com/
BEGIN:VEVENT
UID:949321eb-6047-4444-af42-165b4411f53e@www.ridgefuneralhome.com
DTSTAMP:20260421T012019Z
DTSTART:20260425T160000Z
DTEND:20260425T170000Z
SUMMARY:Visitation
DESCRIPTION:
URL:https://www.ridgefuneralhome.com/obituaries/judy-richardson
LOCATION:First Baptist Church Asheboro 133 N. Church St.  Asheboro NC 
	27203
GEO:35.7066242;-79.8172885
END:VEVENT
END:VCALENDAR