BEGIN:VCALENDAR
VERSION:2.0
PRODID:-//Tukios.com/
BEGIN:VEVENT
UID:f058c63d-d14d-4b2b-a7e1-dd31f8ce73ad@www.ridgefuneralhome.com
DTSTAMP:20260421T011754Z
DTSTART:20260425T170000Z
DTEND:20260425T180000Z
SUMMARY:Memorial Service
DESCRIPTION:
URL:https://www.ridgefuneralhome.com/obituaries/judy-richardson
LOCATION: 133 N Church St  Asheboro NC 27203
GEO:35.7069615;-79.8170457
END:VEVENT
END:VCALENDAR