BEGIN:VCALENDAR
VERSION:2.0
PRODID:-//Tukios.com/
BEGIN:VEVENT
UID:03aba8d2-01fc-401a-94f7-a68a7e2e9068@www.ridgefuneralhome.com
DTSTAMP:20260420T195437Z
DTSTART:20260424T170000Z
DTEND:20260424T180000Z
SUMMARY:Visitation
DESCRIPTION:
URL:https://www.ridgefuneralhome.com/obituaries/gloria-collins
LOCATION: 908 Albemarle Rd  Asheboro NC 27203
GEO:35.6887718;-79.8294116
END:VEVENT
END:VCALENDAR