BEGIN:VCALENDAR
VERSION:2.0
PRODID:-//Tukios.com/
BEGIN:VEVENT
UID:5053a732-11b9-4f9e-b4f2-4226454589ef@www.ridgefuneralhome.com
DTSTAMP:20260420T195638Z
DTSTART:20260424T180000Z
DTEND:20260424T190000Z
SUMMARY:Funeral Service
DESCRIPTION:
URL:https://www.ridgefuneralhome.com/obituaries/gloria-collins
LOCATION: 908 Albemarle Rd  Asheboro NC 27203
GEO:35.6887718;-79.8294116
END:VEVENT
END:VCALENDAR