BEGIN:VCALENDAR
VERSION:2.0
PRODID:-//Tukios.com/
BEGIN:VEVENT
UID:ed6a201b-7635-4725-ab9e-ead270074167@www.ridgefuneralhome.com
DTSTAMP:20260422T000844Z
DTSTART:20260426T190000Z
DTEND:20260426T200000Z
SUMMARY:Celebration of Life
DESCRIPTION:
URL:https://www.ridgefuneralhome.com/obituaries/douglas-proctor
LOCATION:Bunker Hill United Methodist Church Fellowship Hall 1510 Bunker 
	Hill Sandy Ridge Road  Kernersville NC 27284
GEO:36.0745335;-80.0584256
END:VEVENT
END:VCALENDAR