BEGIN:VCALENDAR
VERSION:2.0
PRODID:-//Tukios.com/
BEGIN:VEVENT
UID:f3a80a8c-b48e-48c9-b9fe-b411c95e4755@www.ridgefuneralhome.com
DTSTAMP:20260421T221359Z
DTSTART:20260425T173000Z
DTEND:20260425T183000Z
SUMMARY:Visitation
DESCRIPTION:
URL:https://www.ridgefuneralhome.com/obituaries/bronna-merritt
LOCATION: 908 Albemarle Rd  Asheboro NC 27203
GEO:35.6887912;-79.8294628
END:VEVENT
END:VCALENDAR