BEGIN:VCALENDAR
VERSION:2.0
PRODID:-//Tukios.com/
BEGIN:VEVENT
UID:70c824aa-a619-400f-960f-c114613a13d8@www.ridgefuneralhome.com
DTSTAMP:20260421T220523Z
DTSTART:20260425T190000Z
DTEND:20260425T200000Z
SUMMARY:Graveside Service
DESCRIPTION:
URL:https://www.ridgefuneralhome.com/obituaries/bronna-merritt
LOCATION: 737 Albemarle Road  Asheboro NC 27203
GEO:35.688936;-79.8246379
END:VEVENT
END:VCALENDAR